BEGIN:VCALENDAR
VERSION:2.0
PRODID:-//SINGEBRATION - ECPv6.15.20//NONSGML v1.0//EN
CALSCALE:GREGORIAN
METHOD:PUBLISH
X-WR-CALNAME:SINGEBRATION
X-ORIGINAL-URL:https://singebration.com
X-WR-CALDESC:Veranstaltungen für SINGEBRATION
REFRESH-INTERVAL;VALUE=DURATION:PT1H
X-Robots-Tag:noindex
X-PUBLISHED-TTL:PT1H
BEGIN:VTIMEZONE
TZID:Europe/Berlin
BEGIN:DAYLIGHT
TZOFFSETFROM:+0100
TZOFFSETTO:+0200
TZNAME:CEST
DTSTART:20250330T010000
END:DAYLIGHT
BEGIN:STANDARD
TZOFFSETFROM:+0200
TZOFFSETTO:+0100
TZNAME:CET
DTSTART:20251026T010000
END:STANDARD
BEGIN:DAYLIGHT
TZOFFSETFROM:+0100
TZOFFSETTO:+0200
TZNAME:CEST
DTSTART:20260329T010000
END:DAYLIGHT
BEGIN:STANDARD
TZOFFSETFROM:+0200
TZOFFSETTO:+0100
TZNAME:CET
DTSTART:20261025T010000
END:STANDARD
BEGIN:DAYLIGHT
TZOFFSETFROM:+0100
TZOFFSETTO:+0200
TZNAME:CEST
DTSTART:20270328T010000
END:DAYLIGHT
BEGIN:STANDARD
TZOFFSETFROM:+0200
TZOFFSETTO:+0100
TZNAME:CET
DTSTART:20271031T010000
END:STANDARD
END:VTIMEZONE
BEGIN:VEVENT
DTSTART;TZID=Europe/Berlin:20260425T190000
DTEND;TZID=Europe/Berlin:20260425T213000
DTSTAMP:20260424T115309
CREATED:20251116T115339Z
LAST-MODIFIED:20260221T163739Z
UID:5870-1777143600-1777152600@singebration.com
SUMMARY:The Singebration Show
DESCRIPTION:The Singebration Show – Erleben Sie einen faszinierenden Abend mit dem Esslinger ShowChor Singebration. Unter der Leitung von Katharina Campos Aquino erwartet Sie ein ganz besonderes Erlebnis. \nAuf der musikalischen Reise von populärer Klassik bis hin zu Rock-Hymnen erleben Sie eine Mischung aus zarten und imposanten Klängen\, schnellen Beats und ruhigen Melodien. Eine fulminante Ouvertüre\, funkige Sounds\, märchenhafte Stimmung und guter\, alter Rock … das alles passt in einen Abend. \nEin eigenes Orchester lässt die Musik lebendig werden und eine ausdrucksstarke Inszenierung Sie als Zuschauer in die musikalischen Welten eintauchen. \nLassen Sie sich mitreißen! Seien Sie dabei – The Singebration Show.
URL:https://singebration.com/event/konzert-an-der-wlb-esslingen-in-planung/
LOCATION:Württembergische Landesbühne\, Strohstrasse 1\, Esslingen\, Baden-Württemberg\, 73728\, Deutschland
CATEGORIES:Konzert
ATTACH;FMTTYPE=image/jpeg:https://singebration.com/wp-content/uploads/2024/11/wlb-Esslingen.jpg
END:VEVENT
END:VCALENDAR