BEGIN:VCALENDAR
VERSION:2.0
PRODID:-//SINGEBRATION - ECPv6.15.20//NONSGML v1.0//EN
CALSCALE:GREGORIAN
METHOD:PUBLISH
X-WR-CALNAME:SINGEBRATION
X-ORIGINAL-URL:https://singebration.com
X-WR-CALDESC:Veranstaltungen für SINGEBRATION
REFRESH-INTERVAL;VALUE=DURATION:PT1H
X-Robots-Tag:noindex
X-PUBLISHED-TTL:PT1H
BEGIN:VTIMEZONE
TZID:Europe/Berlin
BEGIN:DAYLIGHT
TZOFFSETFROM:+0100
TZOFFSETTO:+0200
TZNAME:CEST
DTSTART:20250330T010000
END:DAYLIGHT
BEGIN:STANDARD
TZOFFSETFROM:+0200
TZOFFSETTO:+0100
TZNAME:CET
DTSTART:20251026T010000
END:STANDARD
BEGIN:DAYLIGHT
TZOFFSETFROM:+0100
TZOFFSETTO:+0200
TZNAME:CEST
DTSTART:20260329T010000
END:DAYLIGHT
BEGIN:STANDARD
TZOFFSETFROM:+0200
TZOFFSETTO:+0100
TZNAME:CET
DTSTART:20261025T010000
END:STANDARD
BEGIN:DAYLIGHT
TZOFFSETFROM:+0100
TZOFFSETTO:+0200
TZNAME:CEST
DTSTART:20270328T010000
END:DAYLIGHT
BEGIN:STANDARD
TZOFFSETFROM:+0200
TZOFFSETTO:+0100
TZNAME:CET
DTSTART:20271031T010000
END:STANDARD
END:VTIMEZONE
BEGIN:VEVENT
DTSTART;TZID=Europe/Berlin:20260420T193000
DTEND;TZID=Europe/Berlin:20260420T213000
DTSTAMP:20260420T075656
CREATED:20260310T103550Z
LAST-MODIFIED:20260310T103550Z
UID:7188-1776713400-1776720600@singebration.com
SUMMARY:Reguläre Probe
DESCRIPTION:
URL:https://singebration.com/event/regulaere-probe-7/
LOCATION:Gemeindesaal St. Katharina\, Kornhalde 4\, Esslingen\, Baden-Württemberg\, 73733\, Deutschland
CATEGORIES:Standardprobe
ATTACH;FMTTYPE=image/jpeg:https://singebration.com/wp-content/uploads/2024/01/Chorprobe.jpg
END:VEVENT
END:VCALENDAR